BEGIN:VCALENDAR
VERSION:2.0
PRODID:-//www.stjohnsadrian.org//NONSGML kigkonsult.se iCalcreator 2.39.1//
CALSCALE:GREGORIAN
METHOD:PUBLISH
UID:1eb13ffa-cd07-489e-b45c-942eaace1d22
X-WR-CALNAME:www.stjohnsadrian.org
X-WR-CALDESC:www.stjohnsadrian.org
X-WR-TIMEZONE:America/Los_Angeles
X-LIC-LOCATION:America/Los_Angeles
BEGIN:VEVENT
UID:e7dbd4f7-74e3-4fbd-84a6-eb658f34473f
DTSTAMP:20260422T084715Z
CLASS:PUBLIC
DTSTART;TZID=America/Los_Angeles:20260928T160000
DTEND;TZID=America/Los_Angeles:20260928T180000
LOCATION:St. John's Lutheran Church
SUMMARY:10th Annual Community Carnival
TRANSP:OPAQUE
BEGIN:VALARM
ACTION:DISPLAY
DESCRIPTION:10th Annual Community Carnival
TRIGGER:-PT15M
END:VALARM
END:VEVENT
END:VCALENDAR
